BEGIN:VCALENDAR
VERSION:2.0
PRODID:-//SEA - ECPv6.15.20//NONSGML v1.0//EN
CALSCALE:GREGORIAN
METHOD:PUBLISH
X-ORIGINAL-URL:https://www.suomenevankelinenallianssi.fi
X-WR-CALDESC:Tapahtumat SEA
REFRESH-INTERVAL;VALUE=DURATION:PT1H
X-Robots-Tag:noindex
X-PUBLISHED-TTL:PT1H
BEGIN:VTIMEZONE
TZID:Europe/Moscow
BEGIN:STANDARD
TZOFFSETFROM:+0300
TZOFFSETTO:+0300
TZNAME:MSK
DTSTART:20220101T000000
END:STANDARD
END:VTIMEZONE
BEGIN:VEVENT
DTSTART;TZID=Europe/Moscow:20230429T160000
DTEND;TZID=Europe/Moscow:20230429T183000
DTSTAMP:20260426T061741
CREATED:20230116T170948Z
LAST-MODIFIED:20230323T162010Z
UID:2174-1682784000-1682793000@www.suomenevankelinenallianssi.fi
SUMMARY:Vapaus uskoa - Uskonnonvapaus 100 vuotta
DESCRIPTION:Juhlatilaisuus lauantaina 29.4.2023 klo 16-18\nTemppeliaukion kirkossa (Lutherinkatu 3\, Helsinki)\n\nUskonnonvapaus on merkityksellinen asia kristityille suomalaisessa yhteiskunnassa. Haluamme juhlia uskonnonvapautta suomalaisen uskonnonvapauslain täyttäessä 100 vuotta vuonna 2023.\nSuomalaiset ja kristilliset arvot ovat uskonnonvapauden taustalla. Paikallaan on myös tarkastella uskonnonvapautta vähemmistöjen näkökulmasta Suomessa ja eurooppalaisesta näkökulmasta. Vapaus uskoa puuttuu suuresta osasta maailmaa.\n\nOhjelma\n16.00 Finlandia-hymni\, Fanni Lehto\nTervetulosanat\, kirkkoherra Hilkka Niemistö (Töölön ev.-lut. seurakunta)\nAlkusanat\, Kirsi Rothfors (SEA) & Mayvor Wärn-Rancken (SEN)\n16.15 Raamatun luku ja rukous\, Timo Keskitalo (SLN)\n16.20 Ylistys: Northwind\n16.40 Puhe: piispa Bo-Göran Åstrand (ev.-lut.)\n17.00 Rukous Suomen puolesta ja kiitos\, että saamme vapaasti uskoa\, Ari Korolainen (vap.) & Stefan Sigfrids (hel.)\n17.10 Puhe: Isä Heikki Huttunen (ort.)\n17.25 Musiikki: Jukka Leppilampi ja Tove Wingren\n17.45 Puhe: pastori Marjan Roayaii (met.)\n18.00 Isä meidän -rukous\n18.05 Virsi 170: Jumala ompi linnamme\, Fanni Lehto\n18.10 Päätössanat\, Kirsi Rothfors & Mayvor Wärn-Rancken\n18.15 Herran siunaus\, piispa Bo-Göran Åstrand\n\nEvenemanget är tvåspråkigt.\nKolehti kannetaan ovella Open Doors -järjestölle.\nTervetuloa!\n\nTilaisuuden järjestävät Suomen Ekumeeninen Neuvosto\, Suomen Evankelinen Allianssi ja Suomen\nLähetysneuvosto.\n\n* * * * *\n\nFrihet att tro – Religionsfriheten 100 år\nFesttillställning lördagen 29.4.2023 kl. 16-18 i Tempelplatsens kyrka (Luthergatan 3\, Helsingfors)\n\nReligionsfriheten är en viktig fråga för kristna i det finländska samhället. Vi vill fira religionsfriheten när den finska religionsfrihetslagen fyller 100 år 2023. Finska och kristna värderingar ligger till grund för religionsfriheten. Det är också lämpligt att betrakta religionsfriheten ur minoriteternas perspektiv i Finland och ur ett europeiskt perspektiv. Trosfrihet saknas i stora delar av världen.\n\nProgram\n16.00 Finlandia-hymnen\, Fanni Lehto\nVälkomstord\, Hilkka Niemistö\, kyrkoherde (Töölö finska ev.luth. församling)\nInledningsord\, Kirsi Rothfors (SEA) & Mayvor Wärn-Rancken (ERF)\n16.15 Bibelläsning och bön\, Timo Keskitalo (SLN)\n16.20 Lovsång: Northwind\n16.40 Tal: Biskop Bo-Göran Åstrand (ev.luth.)\n17.00 Bön för Finland och tack för friheten att tro\, Ari Korolainen (vap.) & Stefan Sigfrids (pingst)\n17.10 Tal: Fader Heikki Huttunen (ort.)\n17.25 Musik: Jukka Leppilampi och Tove Wingren\n17.45 Tal: pastor Marjan Roayaii (met.)\n18.00 Fader vår-bönen\n18.05 Psalm 154: Vår Gud är oss en väldig borg\, Fanni Lehto\n18.10 Avslutande ord\, Kirsi Rothfors & Mayvor Wärn-Rancken\n18. 15 Herrens välsignelse\, biskop Bo-Göran Åstrand\n\nEvenemanget är tvåspråkigt. Kollekten till förmån för Open Doors uppbärs vid dörrarna.\nVälkommen!\n\nEvenemanget arrangeras av Ekumeniska Rådet i Finland (ERF)\, Suomen Evankelinen Allianssi (SEA) och Finska missionsrådet (SLN).
URL:https://www.suomenevankelinenallianssi.fi/event/vapaus-uskoa-uskonnonvapaus-100-vuotta/
LOCATION:Temppeliaukion kirkko\, Lutherinkatu 3\, Helsinki\, Suomi
ATTACH;FMTTYPE=image/jpeg:https://www.suomenevankelinenallianssi.fi/wp-content/uploads/2023/01/uskonnonvapaus100.jpg
END:VEVENT
END:VCALENDAR