BEGIN:VCALENDAR
VERSION:2.0
PRODID:-//SEA - ECPv6.15.20//NONSGML v1.0//EN
CALSCALE:GREGORIAN
METHOD:PUBLISH
X-WR-CALNAME:SEA
X-ORIGINAL-URL:https://www.suomenevankelinenallianssi.fi
X-WR-CALDESC:Tapahtumat SEA
REFRESH-INTERVAL;VALUE=DURATION:PT1H
X-Robots-Tag:noindex
X-PUBLISHED-TTL:PT1H
BEGIN:VTIMEZONE
TZID:Europe/Moscow
BEGIN:STANDARD
TZOFFSETFROM:+0300
TZOFFSETTO:+0300
TZNAME:MSK
DTSTART:20230101T000000
END:STANDARD
END:VTIMEZONE
BEGIN:VEVENT
DTSTART;TZID=Europe/Moscow:20240424T180000
DTEND;TZID=Europe/Moscow:20240424T193000
DTSTAMP:20260425T142020
CREATED:20240111T084728Z
LAST-MODIFIED:20240417T070423Z
UID:2387-1713981600-1713987000@www.suomenevankelinenallianssi.fi
SUMMARY:"Kaksi tai kolme" - raamattuhetki Zoomissa ke 24.4.
DESCRIPTION:Tahtoisitko raamatturyhmään? Tai tarvitsetko rohkaisua nykyisessä ryhmässäsi? Tule tutustumaan raamatunlukuopas Hetkisen raamatturyhmämalliin. \n\nKe 24.4. klo 18.00–19.30\, Zoom-linkki\n\nEmäntänä Kirsi Smeds Raamatunlukijan Liitosta. Tilaisuuden järjestää SEA:n Raamattuverkosto (SuoRa).
URL:https://www.suomenevankelinenallianssi.fi/event/kaksi-tai-kolme-raamattuhetket-zoomissa-7-2-ja-24-4/
ATTACH;FMTTYPE=image/jpeg:https://www.suomenevankelinenallianssi.fi/wp-content/uploads/2024/01/Kaksi-tai-Kolme-huhti2024.jpg
END:VEVENT
END:VCALENDAR