BEGIN:VCALENDAR
VERSION:2.0
PRODID:-//SEA - ECPv6.15.20//NONSGML v1.0//EN
CALSCALE:GREGORIAN
METHOD:PUBLISH
X-WR-CALNAME:SEA
X-ORIGINAL-URL:https://www.suomenevankelinenallianssi.fi
X-WR-CALDESC:Tapahtumat SEA
REFRESH-INTERVAL;VALUE=DURATION:PT1H
X-Robots-Tag:noindex
X-PUBLISHED-TTL:PT1H
BEGIN:VTIMEZONE
TZID:Europe/Moscow
BEGIN:STANDARD
TZOFFSETFROM:+0300
TZOFFSETTO:+0300
TZNAME:MSK
DTSTART:20230101T000000
END:STANDARD
END:VTIMEZONE
BEGIN:VEVENT
DTSTART;TZID=Europe/Moscow:20240426T100000
DTEND;TZID=Europe/Moscow:20240426T170000
DTSTAMP:20260425T142026
CREATED:20240227T154138Z
LAST-MODIFIED:20240418T053334Z
UID:2450-1714125600-1714150800@www.suomenevankelinenallianssi.fi
SUMMARY:SEA:n yhteyspäivä "Lausanne 50 v." ja kevätkokous 26.4.
DESCRIPTION:SEA:n kaikille avoin yhteyspäivä pidetään perjantaina 26.4. klo 10-17 New Life -seurakunnassa Helsingin Pasilassa\, os. Leankatu 3. \nTeemana on Lausannen liike 50 vuotta\, ja kuulemme kohokohtia evankelisen lähetyksen historiasta ja nykypäivästä. Keskustelemme myös yhdessä siitä\, mitä Jumala tekee maailmalla juuri nyt ja miten voimme olla siinä mukana. Tule inspiroitumaan! \nPäivän ohjelma: \n9:30  Kahvia tarjolla\n10:00  Ylistys ja rukous\n10:30  Evankelisen lähetyksen historia ja nykypäivä\, Lausannen liikkeen Euroopan aluejohtaja Jim Memory (etäyhteydellä)\n11:00  Ryhmäkeskustelu alustuksen pohjalta\n12:00  Lounas lähialueen ravintoloissa (omakustanteinen)\n13:30  Paneelikeskustelu: Miten olemme mukana siinä\, mitä maailmalla tapahtuu? Mukana mm. Mika Tuovinen (Mission Europe) ja Henri Hermunen (YWAM Finland)\n14:30  Ryhmäkeskustelu\n15:30  Yhteistä rukousta ja lopetus\n16:00-17:00  SEA:n sääntömääräinen kevätkokous \nIlmoittaudu yhteyspäivään täältä 22.4. mennessä \nKevätkokoukseen voivat osallistua SEA:n henkilöjäsenet ja jäsenyhteisöjen edustajat. Voit jättää jäsenhakemuksen täältä.
URL:https://www.suomenevankelinenallianssi.fi/event/sean-yhteyspaiva-lausanne-50-v-ja-kevatkokous-26-4/
ATTACH;FMTTYPE=image/jpeg:https://www.suomenevankelinenallianssi.fi/wp-content/uploads/2024/02/lausanne-50-yhteyspaiva-2024-4.jpg
END:VEVENT
END:VCALENDAR